BEGIN:VCALENDAR
VERSION:2.0
PRODID:-//Posaunenchor Buchholterberg-Kurzenberg - ECPv6.15.20//NONSGML v1.0//EN
CALSCALE:GREGORIAN
METHOD:PUBLISH
X-WR-CALNAME:Posaunenchor Buchholterberg-Kurzenberg
X-ORIGINAL-URL:https://buchholterberg-kurzenberg.ch
X-WR-CALDESC:Veranstaltungen für Posaunenchor Buchholterberg-Kurzenberg
REFRESH-INTERVAL;VALUE=DURATION:PT1H
X-Robots-Tag:noindex
X-PUBLISHED-TTL:PT1H
BEGIN:VTIMEZONE
TZID:Europe/Zurich
BEGIN:DAYLIGHT
TZOFFSETFROM:+0100
TZOFFSETTO:+0200
TZNAME:CEST
DTSTART:20250330T010000
END:DAYLIGHT
BEGIN:STANDARD
TZOFFSETFROM:+0200
TZOFFSETTO:+0100
TZNAME:CET
DTSTART:20251026T010000
END:STANDARD
BEGIN:DAYLIGHT
TZOFFSETFROM:+0100
TZOFFSETTO:+0200
TZNAME:CEST
DTSTART:20260329T010000
END:DAYLIGHT
BEGIN:STANDARD
TZOFFSETFROM:+0200
TZOFFSETTO:+0100
TZNAME:CET
DTSTART:20261025T010000
END:STANDARD
BEGIN:DAYLIGHT
TZOFFSETFROM:+0100
TZOFFSETTO:+0200
TZNAME:CEST
DTSTART:20270328T010000
END:DAYLIGHT
BEGIN:STANDARD
TZOFFSETFROM:+0200
TZOFFSETTO:+0100
TZNAME:CET
DTSTART:20271031T010000
END:STANDARD
END:VTIMEZONE
BEGIN:VEVENT
DTSTART;TZID=Europe/Zurich:20260411T200000
DTEND;TZID=Europe/Zurich:20260411T200000
DTSTAMP:20260423T110109
CREATED:20260313T101036Z
LAST-MODIFIED:20260313T101408Z
UID:672-1775937600-1775937600@buchholterberg-kurzenberg.ch
SUMMARY:Konzert und Theater Heimenschwand
DESCRIPTION:Konzert in der Kirche\, anschliessend Theater im Kirchgemeindehaus.
URL:https://buchholterberg-kurzenberg.ch/event/konzert-und-theater-heimenschwand-2/
LOCATION:Kirche Heimenschwand\, Dorfstrasse 26\, 3615 Buchholterberg
CATEGORIES:Konzert,Theater
END:VEVENT
END:VCALENDAR